BEGIN:VCALENDAR
VERSION:2.0
PRODID:-//Kunst Kultur Justiz e.V. - ECPv6.15.20//NONSGML v1.0//EN
CALSCALE:GREGORIAN
METHOD:PUBLISH
X-WR-CALNAME:Kunst Kultur Justiz e.V.
X-ORIGINAL-URL:https://www.kunstkulturjustiz.de
X-WR-CALDESC:Veranstaltungen für Kunst Kultur Justiz e.V.
REFRESH-INTERVAL;VALUE=DURATION:PT1H
X-Robots-Tag:noindex
X-PUBLISHED-TTL:PT1H
BEGIN:VTIMEZONE
TZID:UTC
BEGIN:STANDARD
TZOFFSETFROM:+0000
TZOFFSETTO:+0000
TZNAME:UTC
DTSTART:20230101T000000
END:STANDARD
END:VTIMEZONE
BEGIN:VEVENT
DTSTART;VALUE=DATE:20240703
DTEND;VALUE=DATE:20240905
DTSTAMP:20260422T135138
CREATED:20240628T173316Z
LAST-MODIFIED:20240628T180216Z
UID:252-1719964800-1725494399@www.kunstkulturjustiz.de
SUMMARY:Kunstausstellung „Voyage en ville“
DESCRIPTION:Künstlerin: Eneka Razquin
URL:https://www.kunstkulturjustiz.de/event/kunstausstellung-voyage-en-ville/
LOCATION:Landgericht Köln\, Luxemburger Straße 101\, Köln\, 50939\, Deutschland
CATEGORIES:Kunstausstellung
ORGANIZER;CN="Kunst Kultur Justiz e.V. in Kooperation":MAILTO:info@kunstkulturjustiz.de
END:VEVENT
BEGIN:VEVENT
DTSTART;TZID=UTC:20240828T180000
DTEND;TZID=UTC:20240828T235900
DTSTAMP:20260422T135138
CREATED:20240628T175429Z
LAST-MODIFIED:20240628T192148Z
UID:260-1724868000-1724889540@www.kunstkulturjustiz.de
SUMMARY:Krimi & Kabarett mit Kathrin Heinrichs
DESCRIPTION:Kriminelles im Amtsgericht:\nDie Direktorin des Amtsgerichts Gummersbach lädt mit Unterstützung des Vereins Kunst Kultur Justiz e.V. zur Lesung ein: \n„Am Ende zu viel“ von und mit Kathrin Heinrichs \n  \nEintritt: 10\,00 Euro | Ermässigt für Schüler & Studenten: 8\,00 Euro \nEinlass nur mit Anmeldung über: https://beteiligung.nrw.de/portal/justiz/beteiligung/themen/1007351 \n 
URL:https://www.kunstkulturjustiz.de/event/krimi-kabarett-mit-kathrin-heinrichs/
LOCATION:Amtsgericht Gummersbach\, Steinmüllerallee 1a\, Gummersbach\, 51643
CATEGORIES:Lesung
END:VEVENT
END:VCALENDAR