BEGIN:VCALENDAR
VERSION:2.0
PRODID:-//Kunst Kultur Justiz e.V. - ECPv6.15.20//NONSGML v1.0//EN
CALSCALE:GREGORIAN
METHOD:PUBLISH
X-ORIGINAL-URL:https://www.kunstkulturjustiz.de
X-WR-CALDESC:Veranstaltungen für Kunst Kultur Justiz e.V.
REFRESH-INTERVAL;VALUE=DURATION:PT1H
X-Robots-Tag:noindex
X-PUBLISHED-TTL:PT1H
BEGIN:VTIMEZONE
TZID:UTC
BEGIN:STANDARD
TZOFFSETFROM:+0000
TZOFFSETTO:+0000
TZNAME:UTC
DTSTART:20220101T000000
END:STANDARD
END:VTIMEZONE
BEGIN:VEVENT
DTSTART;VALUE=DATE:20231024
DTEND;VALUE=DATE:20240111
DTSTAMP:20260423T003954
CREATED:20231105T113138Z
LAST-MODIFIED:20240628T180240Z
UID:148-1698105600-1704931199@www.kunstkulturjustiz.de
SUMMARY:Ausstellung „TORE GEH´N AUF“
DESCRIPTION:
URL:https://www.kunstkulturjustiz.de/event/ausstellung-tore-gehn-auf/
LOCATION:Landgericht Köln\, Luxemburger Straße 101\, Köln\, 50939\, Deutschland
CATEGORIES:Kunstausstellung
ORGANIZER;CN="Kunst Kultur Justiz e.V.":MAILTO:info@kunstkulturjustiz.de
END:VEVENT
END:VCALENDAR