BEGIN:VCALENDAR
VERSION:2.0
PRODID:-//Kunst Kultur Justiz e.V. - ECPv6.15.20//NONSGML v1.0//EN
CALSCALE:GREGORIAN
METHOD:PUBLISH
X-WR-CALNAME:Kunst Kultur Justiz e.V.
X-ORIGINAL-URL:https://www.kunstkulturjustiz.de
X-WR-CALDESC:Veranstaltungen für Kunst Kultur Justiz e.V.
REFRESH-INTERVAL;VALUE=DURATION:PT1H
X-Robots-Tag:noindex
X-PUBLISHED-TTL:PT1H
BEGIN:VTIMEZONE
TZID:UTC
BEGIN:STANDARD
TZOFFSETFROM:+0000
TZOFFSETTO:+0000
TZNAME:UTC
DTSTART:20220101T000000
END:STANDARD
END:VTIMEZONE
BEGIN:VEVENT
DTSTART;VALUE=DATE:20230502
DTEND;VALUE=DATE:20230710
DTSTAMP:20260423T122548
CREATED:20240228T194532Z
LAST-MODIFIED:20240628T180345Z
UID:228-1682985600-1688947199@www.kunstkulturjustiz.de
SUMMARY:Ausstellung „Form und Farbe fern der digitalen Welt“
DESCRIPTION:
URL:https://www.kunstkulturjustiz.de/event/ausstellung-form-und-farbe-fern-der-digitalen-welt/
LOCATION:Oberlandesgericht Köln\, Reichensperger Platz 1\, Köln\, 50670
CATEGORIES:Kunstausstellung
ORGANIZER;CN="Kunst Kultur Justiz e.V.":MAILTO:info@kunstkulturjustiz.de
END:VEVENT
END:VCALENDAR