BEGIN:VCALENDAR
VERSION:2.0
PRODID:-//Kunst Kultur Justiz e.V. - ECPv6.15.20//NONSGML v1.0//EN
CALSCALE:GREGORIAN
METHOD:PUBLISH
X-ORIGINAL-URL:https://www.kunstkulturjustiz.de
X-WR-CALDESC:Veranstaltungen für Kunst Kultur Justiz e.V.
REFRESH-INTERVAL;VALUE=DURATION:PT1H
X-Robots-Tag:noindex
X-PUBLISHED-TTL:PT1H
BEGIN:VTIMEZONE
TZID:UTC
BEGIN:STANDARD
TZOFFSETFROM:+0000
TZOFFSETTO:+0000
TZNAME:UTC
DTSTART:20220101T000000
END:STANDARD
END:VTIMEZONE
BEGIN:VEVENT
DTSTART;TZID=UTC:20230126T170000
DTEND;TZID=UTC:20230411T200000
DTSTAMP:20260423T135520
CREATED:20240228T171107Z
LAST-MODIFIED:20240628T180407Z
UID:203-1674752400-1681243200@www.kunstkulturjustiz.de
SUMMARY:Ausstellung „shine a light“
DESCRIPTION:
URL:https://www.kunstkulturjustiz.de/event/ausstellung-shine-a-light/
LOCATION:Landgericht Köln\, Luxemburger Straße 101\, Köln\, 50939\, Deutschland
CATEGORIES:Kunstausstellung
ORGANIZER;CN="Kunst Kultur Justiz e.V.":MAILTO:info@kunstkulturjustiz.de
END:VEVENT
END:VCALENDAR